BEGIN:VCALENDAR
VERSION:2.0
PRODID:Events Booking
BEGIN:VEVENT
UID:69e635ab5e726
SUMMARY:Peter Mulvey
DESCRIPTION:Peter Mulvey has been a songwriter\, road-dog\, raconteur and a
 lmost-poet since before he can remember. Raised working-class Catholic on 
 the Northwest side of Milwaukee\, he took a semester in Ireland and immedi
 ately began cutting classes to busk on Grafton Street in Dublin and hitchh
 ike through the country\, finding whatever gigs he could. Back stateside\,
  he spent a couple years gigging in the Midwest before lighting out for Bo
 ston\, where he returned to busking (this time in the subway) and coffeeho
 uses. Small shows led to larger shows\, which eventually led to regional a
 nd then national and international touring.&nbsp\;
LOCATION:Bedford\, 01730 Massachusetts\, United States
DTSTART:20260620T193000Z
DTSTAMP:20250911T151558Z
ORGANIZER;CN=Arts Gourmet:MAILTO:webmaster@artsgourmet.org
GEO:42.492402;-71.28303
X-APPLE-STRUCTURED-LOCATION;VALUE=URI;X-ADDRESS=Bedford\, 01730 Massachuset
 ts\, United States;X-APPLE-RADIUS=72;X-TITLE=Bedford MA - Town Hall:42.492
 402;-71.28303
END:VEVENT
END:VCALENDAR