BEGIN:VCALENDAR
VERSION:2.0
PRODID:Events Booking
BEGIN:VEVENT
UID:69e64d6607257
SUMMARY:Lowell Philharmonic Orchestra - Passport to Sound
DESCRIPTION:Lowell Philharmonic Orchestra presents
 LPO Presents Passport 
 to Sound
 
LOCATION:125 Mt Hope St\, Lowell\, MA 01854\, USA
DTSTART:20260509T140000Z
DTSTAMP:20251022T160131Z
ORGANIZER;CN=Arts Gourmet:MAILTO:webmaster@artsgourmet.org
GEO:42.654447;-71.330757
X-APPLE-STRUCTURED-LOCATION;VALUE=URI;X-ADDRESS=125 Mt Hope St\, Lowell\, M
 A 01854\, USA;X-APPLE-RADIUS=72;X-TITLE=Lowell MA - Fusion Church:42.65444
 7;-71.330757
END:VEVENT
END:VCALENDAR