BEGIN:VCALENDAR
VERSION:2.0
PRODID:Events Booking
BEGIN:VEVENT
UID:69e9385a165da
SUMMARY:The Vibrato Bar - Classical Open Mic Night
DESCRIPTION:Join us at Vibrato Bar – Boston's ONLY classical karaoke bar!
 
 
 Classical karaoke reimagines the karaoke experience with classical m
 usic! At Vibrato Bar\, you can sing or play anything from baroque arias to
  folk songs in a fun\, relaxed setting. Enjoy a night of great music\, dri
 nks\, and a welcoming space for all levels of performers—no opera experi
 ence required!
 
 Let’s get ready for those summer vibes with our fina
 l event of the season!
 
 Join us for a night where you take the spotlig
 ht\, performing your favorite music\, hanging with friends and colleagues\
 , enjoying a specialty cocktail from our favorite bartender\, Ben—all wh
 ile accompanied by the North Shore’s best collaborative pianists.
 
 W
 hether you’re a seasoned vocalist or a first-timer\, there’s no pressu
 re—just a celebration of music\, emotion\, and the thrill of the moment.
 
 
 We’ve got a seat saved for you at the Vibrato Bar!
 
 
LOCATION:9 Wallis St\, Beverly\, MA 01915\, USA
DTSTART:20260518T190000Z
DTEND:20260518T203000Z
DTSTAMP:20260422T154459Z
ORGANIZER;CN=Arts Gourmet:MAILTO:webmaster@artsgourmet.org
GEO:42.548129;-70.879439
X-APPLE-STRUCTURED-LOCATION;VALUE=URI;X-ADDRESS=9 Wallis St\, Beverly\, MA 
 01915\, USA;X-APPLE-RADIUS=72;X-TITLE=Beverly MA - Off Cabot:42.548129;-70
 .879439
END:VEVENT
END:VCALENDAR