BEGIN:VCALENDAR
VERSION:2.0
PRODID:Events Booking
BEGIN:VEVENT
UID:69e4eded4e8b2
SUMMARY:VISTA Philharmonic - Mahler Symphony #3
DESCRIPTION:AN “ALMOST” SUMMER’S MIDDAY DREAM
 May 9\, 2026 at 7:30p
 m
 MAHLER Symphony No. 3\, Alexis Peart\, mezzo soprano 
 
 We’re fin
 ishing the season strong and looking toward summer\, with the work Gustav 
 Mahler called “A Summer’s Midday Dream” — one of the most acclaime
 d symphonies of all time.
 Featuring special guests: Alexis Peart\, mezzo
  soprano\, the Nashoba Valley Chorale Women’s Chorus\, and a Children’
 s Chorus\, TBA
LOCATION:122 Old Ayer Rd\, Groton\, MA 01450\, USA	
DTSTART:20260509T193000Z
DTSTAMP:20260410T144915Z
ORGANIZER;CN=Arts Gourmet:MAILTO:webmaster@artsgourmet.org
GEO:42.595502;-71.571004
X-APPLE-STRUCTURED-LOCATION;VALUE=URI;X-ADDRESS=122 Old Ayer Rd\, Groton\, 
 MA 01450\, USA	;X-APPLE-RADIUS=72;X-TITLE=Groton MA - Groton Hill Music Ce
 nter:42.595502;-71.571004
END:VEVENT
END:VCALENDAR