BEGIN:VCALENDAR
VERSION:2.0
PRODID:Events Booking
BEGIN:VEVENT
UID:69eceda76faf8
SUMMARY:Cape Ann Symphony - 2025 Holiday Pops (3)
DESCRIPTION:The annual Holiday Pops is a musical celebration of the season.
  The Cape Ann Symphony Chorus now under the direction of Brittany Betts wi
 ll join the orchestra for a Holiday Pops series for the whole family. The 
 ever popular audience sing-along concludes the performance.
LOCATION:Lincoln Street\, Manchester-by-the-Sea\, 01944 Massachusetts\, Uni
 ted States
DTSTART:20251130T140000Z
DTSTAMP:20250904T181813Z
ORGANIZER;CN=Arts Gourmet:MAILTO:webmaster@artsgourmet.org
GEO:42.581951;-70.765586
X-APPLE-STRUCTURED-LOCATION;VALUE=URI;X-ADDRESS=Lincoln Street\, Manchester
 -by-the-Sea\, 01944 Massachusetts\, United States;X-APPLE-RADIUS=72;X-TITL
 E=Manchester MA - Essex Regional High School:42.581951;-70.765586
END:VEVENT
END:VCALENDAR